BEGIN:VCALENDAR
VERSION:2.0
PRODID:-//Unionhilfswerk //NONSGML Events //EN
CALSCALE:GREGORIAN
X-WR-CALNAME:Unionhilfswerk
BEGIN:VEVENT
CREATED:20220823T104020
UID:2479
DTSTART;VALUE=DATE:20221020T103000
DTEND;VALUE=DATE:20221020T123000
DTSTAMP:20260422T084107
LOCATION:Selbsthilfe- und Stadtteilzentrum Reinickendorf\, Eichhorster Weg 32\, 13435 Berlin
DESCRIPTION:Selbsthilfegruppen öffnen ihre Türen
SUMMARY:Woche der seelischen Gesundheit vom 10. bis 20. Oktober
ORGANIZER:
URL;VALUE=URI:https://www.unionhilfswerk.de/angebote/beratung-unterstuetzung/selbsthilfezentrum-reinickendorf/termine/woche-der-seelische-gesundheit/
TRANSP:OPAQUE
END:VEVENT
END:VCALENDAR
