BEGIN:VCALENDAR
VERSION:2.0
PRODID:-//Unionhilfswerk //NONSGML Events //EN
CALSCALE:GREGORIAN
X-WR-CALNAME:Unionhilfswerk
BEGIN:VEVENT
CREATED:20220823T104422
UID:2480
DTSTART;VALUE=DATE:20221014T170000
DTEND;VALUE=DATE:20221014T200000
DTSTAMP:20260422T084213
LOCATION:Der Veranstaltungsort wird bei der Anmeldung bekanntgegeben.\, \,  
DESCRIPTION:Ein Tanzworkshop zu achtsamem Kontakt\r\nKatrin Stahrenberg, Leiterin für therapeutischen Tanz
SUMMARY:Begegnung und Bewegung
ORGANIZER:
URL;VALUE=URI:https://www.unionhilfswerk.de/angebote/beratung-unterstuetzung/selbsthilfezentrum-reinickendorf/termine/begegnung-und-bewegung/
TRANSP:OPAQUE
END:VEVENT
END:VCALENDAR
