BEGIN:VCALENDAR
VERSION:2.0
PRODID:-//Unionhilfswerk //NONSGML Events //EN
CALSCALE:GREGORIAN
X-WR-CALNAME:Unionhilfswerk
BEGIN:VEVENT
CREATED:20220914T055450
UID:2895
DTSTART;VALUE=DATE:20220927T150000
DTEND;VALUE=DATE:20220927T163000
DTSTAMP:20260423T083231
LOCATION:Hybrid | Diensleistungs.Campus\, Schwiebusser Straße 18\, 10965 Berlin
DESCRIPTION:Fortbildung\r\nMit Dominique Souren | Projektkoordinator Digitalisierung und Engagement
SUMMARY:Planung & Durchführung hybrider Veranstaltungen Teil 2
ORGANIZER:
URL;VALUE=URI:https://www.unionhilfswerk.de/engagement/termine/planung-durchfuehrung-hybrider-veranstaltungen-2/
TRANSP:OPAQUE
END:VEVENT
END:VCALENDAR
