BEGIN:VCALENDAR
VERSION:2.0
PRODID:-//Unionhilfswerk //NONSGML Events //EN
CALSCALE:GREGORIAN
X-WR-CALNAME:Unionhilfswerk
BEGIN:VEVENT
CREATED:20221213T083418
UID:3270
DTSTART;VALUE=DATE:20230125T160000
DTEND;VALUE=DATE:20230125T173000
DTSTAMP:20260423T083238
LOCATION:P.A.N. Zentrum für Post-Akute Neurorehabilitation der Fürst Donnersmarck-Stiftung\, Wildkanzelweg 28\, 13465 Berlin
DESCRIPTION:Austausch- / Reflexionsrunde
SUMMARY:Ziemlich gute Technik!
ORGANIZER:
URL;VALUE=URI:https://www.unionhilfswerk.de/engagement/termine/ziemlich-gute-technik/
TRANSP:OPAQUE
END:VEVENT
END:VCALENDAR
