BEGIN:VCALENDAR
VERSION:2.0
PRODID:-//Unionhilfswerk //NONSGML Events //EN
CALSCALE:GREGORIAN
X-WR-CALNAME:Unionhilfswerk
BEGIN:VEVENT
CREATED:20221213T090448
UID:3288
DTSTART;VALUE=DATE:20230425T180000
DTEND;VALUE=DATE:20230425T190000
DTSTAMP:20260422T084228
LOCATION:digital\, \,  
DESCRIPTION:Infoveranstaltung\r\nMit Philine Busch, Koordinatorin Schülermentoring
SUMMARY:Informationsabend Hürdenspringer für Mentor*innen
ORGANIZER:
URL;VALUE=URI:https://www.unionhilfswerk.de/engagement/termine/informationsabend-huerdenspringer-fuer-mentorinnen-2/
TRANSP:OPAQUE
END:VEVENT
END:VCALENDAR
