BEGIN:VCALENDAR
VERSION:2.0
PRODID:-//Unionhilfswerk //NONSGML Events //EN
CALSCALE:GREGORIAN
X-WR-CALNAME:Unionhilfswerk
BEGIN:VEVENT
CREATED:20230105T164814
UID:3328
DTSTART;VALUE=DATE:20230425T180000
DTEND;VALUE=DATE:20230425T200000
DTSTAMP:20260422T084016
LOCATION:Selbsthilfe- und Stadtteilzentrum Reinickendorf\, Eichhorster Weg 32\, 13435 Berlin
DESCRIPTION:Kiezgespräch\r\nReferentinnen: Psychologinnen von Psychologists4Future
SUMMARY:Die Klimakrise – warum ist sie auch eine psychologische Krise?
ORGANIZER:
URL;VALUE=URI:https://www.unionhilfswerk.de/angebote/beratung-unterstuetzung/selbsthilfezentrum-reinickendorf/termine/die-klimakrise-warum-ist-sie-auch-eine-psychologische-krise/
TRANSP:OPAQUE
END:VEVENT
END:VCALENDAR
