BEGIN:VCALENDAR
VERSION:2.0
PRODID:-//Unionhilfswerk //NONSGML Events //EN
CALSCALE:GREGORIAN
X-WR-CALNAME:Unionhilfswerk
BEGIN:VEVENT
CREATED:20230503T140825
UID:3622
DTSTART;VALUE=DATE:20230602T090000
DTEND;VALUE=DATE:20230603T200000
DTSTAMP:20260422T084215
LOCATION:Grundschule  Am Hohen Feld\, Bedeweg 1\, 13125 Berlin
DESCRIPTION:Fortbildung
SUMMARY:Schulung zum Inklusionshelfer*in
ORGANIZER:
URL;VALUE=URI:https://www.unionhilfswerk.de/engagement/termine/schulung-zum-inklusionshelferin/
TRANSP:OPAQUE
END:VEVENT
END:VCALENDAR
