BEGIN:VCALENDAR
VERSION:2.0
PRODID:-//Unionhilfswerk //NONSGML Events //EN
CALSCALE:GREGORIAN
X-WR-CALNAME:Unionhilfswerk
BEGIN:VEVENT
CREATED:20230621T111851
UID:3894
DTSTART;VALUE=DATE:20230806T110000
DTEND;VALUE=DATE:20230806T170000
DTSTAMP:20260422T084114
LOCATION:Stadtteilzentrum F1 am Mehringplatz\, Friedrichstraße 1\, 10969 Berlin
DESCRIPTION:Mitmachaktion
SUMMARY:Offenes Kiez-Café im F1
ORGANIZER:
URL;VALUE=URI:https://www.unionhilfswerk.de/engagement/termine/offenes-kiez-cafe-im-f1-3/
TRANSP:OPAQUE
END:VEVENT
END:VCALENDAR
