BEGIN:VCALENDAR
VERSION:2.0
PRODID:-//Unionhilfswerk //NONSGML Events //EN
CALSCALE:GREGORIAN
X-WR-CALNAME:Unionhilfswerk
BEGIN:VEVENT
CREATED:20230804T125657
UID:3977
DTSTART;VALUE=DATE:20230904T160000
DTEND;VALUE=DATE:20230904T180000
DTSTAMP:20260422T084057
LOCATION:Kontaktstelle PflegeEngagement Reinickendorf   c/o Selbsthilfe- und Stadtteilzentrum Reinickendorf\, Eichhorster Weg 32\, 13435 Berlin
DESCRIPTION:Informationsveranstaltung mit Austausch\r\nUta Reiberg, Pflegestützpunkt Reinickendorf
SUMMARY:Wohnen im Alter
ORGANIZER:Unionhilfswerk - Kontaktstelle PflegeEngagement Reinickendorf
URL;VALUE=URI:https://www.unionhilfswerk.de/angebote/beratung-unterstuetzung/kontaktstelle-pflegeengagement-reinickendorf/termine/wohnen-im-alter/
TRANSP:OPAQUE
END:VEVENT
END:VCALENDAR
