BEGIN:VCALENDAR
VERSION:2.0
PRODID:-//Unionhilfswerk //NONSGML Events //EN
CALSCALE:GREGORIAN
X-WR-CALNAME:Unionhilfswerk
BEGIN:VEVENT
CREATED:20230821T133246
UID:4017
DTSTART;VALUE=DATE:20231107T170000
DTEND;VALUE=DATE:20231107T190000
DTSTAMP:20260422T084056
LOCATION:Selbsthilfezentrum Reinickendorf\, Eichhorster Wge 32\, 13435 Berlin
DESCRIPTION:Lesung\r\nProf. Jan Stöhlmacher | Onkologe
SUMMARY:Damit Vertrauen im Sprechzimmer gelingt
ORGANIZER:
URL;VALUE=URI:https://www.unionhilfswerk.de/angebote/beratung-unterstuetzung/selbsthilfezentrum-reinickendorf/termine/damit-vertrauen-im-sprechzimmer-gelingt/
TRANSP:OPAQUE
END:VEVENT
END:VCALENDAR
