BEGIN:VCALENDAR
VERSION:2.0
PRODID:-//Unionhilfswerk //NONSGML Events //EN
CALSCALE:GREGORIAN
X-WR-CALNAME:Unionhilfswerk
BEGIN:VEVENT
CREATED:20230821T134137
UID:4019
DTSTART;VALUE=DATE:20230919T160000
DTEND;VALUE=DATE:20230919T180000
DTSTAMP:20260422T084106
LOCATION:Ribbeck-Haus\, Senftenberger Ring 54\, 13435 Berlin
DESCRIPTION:Eine mehrsprachige Veranstaltung der AG Diversität des Verbundes Altenhilfe und Pflege Reinickendorf, im Rahmen der Interkulturellen Wochen in Reinickendorf 
SUMMARY:Gutes Altwerden in Reinickendorf: was brauche ich?
ORGANIZER:Unionhilfswerk - Kontaktstelle PflegeEngagement Reinickendorf
URL;VALUE=URI:https://www.unionhilfswerk.de/angebote/beratung-unterstuetzung/kontaktstelle-pflegeengagement-reinickendorf/termine/gutes-altwerden-in-reinickendorf-was-brauche-ich/
TRANSP:OPAQUE
END:VEVENT
END:VCALENDAR
