BEGIN:VCALENDAR
VERSION:2.0
PRODID:-//Unionhilfswerk //NONSGML Events //EN
CALSCALE:GREGORIAN
X-WR-CALNAME:Unionhilfswerk
BEGIN:VEVENT
CREATED:20230828T095525
UID:4034
DTSTART;VALUE=DATE:20231116T100000
DTEND;VALUE=DATE:20231116T160000
DTSTAMP:20260422T084112
LOCATION:Grieneisen Bestattungen\, Fürstenbrunner Weg 10/12\, 14059 Berlin
DESCRIPTION:Fortbildung
SUMMARY:Letzte Hilfe in Berlin
ORGANIZER:
URL;VALUE=URI:https://www.unionhilfswerk.de/engagement/termine/letzte-hilfe-in-berlin-2/
TRANSP:OPAQUE
END:VEVENT
END:VCALENDAR
