BEGIN:VCALENDAR
VERSION:2.0
PRODID:-//Unionhilfswerk //NONSGML Events //EN
CALSCALE:GREGORIAN
X-WR-CALNAME:Unionhilfswerk
BEGIN:VEVENT
CREATED:20231129T095417
UID:4363
DTSTART;VALUE=DATE:20240918T173000
DTEND;VALUE=DATE:20240918T190000
DTSTAMP:20260423T082043
LOCATION:Unionhilfswerk\, Schwiebusser Straße 18 \, 10965 Berlin
DESCRIPTION:Fortbildung\r\nMit Team die freiwilligen im Unionhilfswerk, Hebah Ammourah, Expertin junges Engagement
SUMMARY:Social Media: Foto-Kompetenzen entwickeln und Multiplikator*in werden
ORGANIZER:
URL;VALUE=URI:https://www.unionhilfswerk.de/engagement/termine/social-media-foto-kompetenzen-entwickeln-und-multiplikatorin-werden-3/
TRANSP:OPAQUE
END:VEVENT
END:VCALENDAR
