BEGIN:VCALENDAR
VERSION:2.0
PRODID:-//Unionhilfswerk //NONSGML Events //EN
CALSCALE:GREGORIAN
X-WR-CALNAME:Unionhilfswerk
BEGIN:VEVENT
CREATED:20231129T102335
UID:4370
DTSTART;VALUE=DATE:20240126T180000
DTEND;VALUE=DATE:20240126T211500
DTSTAMP:20260423T084051
LOCATION:\, Richard-Sorge-Str. 21 A\, 10249 Berlin
DESCRIPTION:Einstiegsqualifizierung\r\nBettina Wistuba und Ute Zerwer
SUMMARY:Beginn: Vorbereitungskurs Lebens- und Sterbebegleitung im Hospizdienst Ost
ORGANIZER:
URL;VALUE=URI:https://www.unionhilfswerk.de/engagement/termine/beginn-vorbereitungskurs-lebens-und-sterbebegleitung-im-hospizdienst-ost/
TRANSP:OPAQUE
END:VEVENT
END:VCALENDAR
