BEGIN:VCALENDAR
VERSION:2.0
PRODID:-//Unionhilfswerk //NONSGML Events //EN
CALSCALE:GREGORIAN
X-WR-CALNAME:Unionhilfswerk
BEGIN:VEVENT
CREATED:20231129T103217
UID:4374
DTSTART;VALUE=DATE:20231213T180000
DTEND;VALUE=DATE:20231213T190000
DTSTAMP:20260423T083236
LOCATION:Hospizdienst Ost\, Richard-Sorge-Str. 21 A\, 10249 Berlin
DESCRIPTION:Infoveranstaltung\r\nMit Bettina Wistuba und Ute Zerwer
SUMMARY:Infoabend: Hospizbegleitung im Hospizdienst Ost
ORGANIZER:
URL;VALUE=URI:https://www.unionhilfswerk.de/engagement/termine/infoabend-hospizbegleitung-im-hospizdienst-ost/
TRANSP:OPAQUE
END:VEVENT
END:VCALENDAR
