BEGIN:VCALENDAR
VERSION:2.0
PRODID:-//Unionhilfswerk //NONSGML Events //EN
CALSCALE:GREGORIAN
X-WR-CALNAME:Unionhilfswerk
BEGIN:VEVENT
CREATED:20231129T103538
UID:4375
DTSTART;VALUE=DATE:20240507T160000
DTEND;VALUE=DATE:20240507T190000
DTSTAMP:20260423T083109
LOCATION:Unionhilfswerk\, Schwiebusser Straße 18 \, 10965 Berlin
DESCRIPTION:Fortbildung\r\nMit Ralf Behrendt, Mitarbeiter Mobilitätshilfedienst Lichtenberg
SUMMARY:Umgang mit dem Rollstuhl
ORGANIZER:
URL;VALUE=URI:https://www.unionhilfswerk.de/engagement/termine/umgang-mit-dem-rollstuhl/
TRANSP:OPAQUE
END:VEVENT
END:VCALENDAR
