BEGIN:VCALENDAR
VERSION:2.0
PRODID:-//Unionhilfswerk //NONSGML Events //EN
CALSCALE:GREGORIAN
X-WR-CALNAME:Unionhilfswerk
BEGIN:VEVENT
CREATED:20231129T104155
UID:4377
DTSTART;VALUE=DATE:20240122T150000
DTEND;VALUE=DATE:20240122T170000
DTSTAMP:20260422T084056
LOCATION:Nähe Charlottenburg\, \,  
DESCRIPTION:Infoveranstaltung\r\nMit Menschen, die selbst obdachlos waren
SUMMARY:Stadtführung Querstadtein Tour: „Die Kunst zu(m) Überleben“
ORGANIZER:
URL;VALUE=URI:https://www.unionhilfswerk.de/engagement/termine/stadtfuehrung-querstadtein-tour-die-kunst-zum-ueberleben/
TRANSP:OPAQUE
END:VEVENT
END:VCALENDAR
