BEGIN:VCALENDAR
VERSION:2.0
PRODID:-//Unionhilfswerk //NONSGML Events //EN
CALSCALE:GREGORIAN
X-WR-CALNAME:Unionhilfswerk
BEGIN:VEVENT
CREATED:20231129T150320
UID:4385
DTSTART;VALUE=DATE:20231202T160000
DTEND;VALUE=DATE:20231202T180000
DTSTAMP:20260423T082041
LOCATION:Stadtteilzentrum F1 am Mehringplatz\, Friedrichstraße 1\, 10969 Berlin
DESCRIPTION:Mitmachaktion\r\nMit Ayşe Dayi, Psychologin und Mindfulness-Trainerin
SUMMARY:Meditationskurs im Stadtteilzentrum F1 (auf türkisch)
ORGANIZER:
URL;VALUE=URI:https://www.unionhilfswerk.de/engagement/termine/meditationskurs-im-stadtteilzentrum-f1-auf-tuerkisch/
TRANSP:OPAQUE
END:VEVENT
END:VCALENDAR
