BEGIN:VCALENDAR
VERSION:2.0
PRODID:-//Unionhilfswerk //NONSGML Events //EN
CALSCALE:GREGORIAN
X-WR-CALNAME:Unionhilfswerk
BEGIN:VEVENT
CREATED:20231130T161212
UID:4398
DTSTART;VALUE=DATE:20240523T150000
DTEND;VALUE=DATE:20240523T190000
DTSTAMP:20260423T094621
LOCATION:Strandbad Plötzensee\, Nordufer 26\, 13351 Berlin
DESCRIPTION:Fortbildung\r\nMit Oliver Tusche, SUP - Wasserfreunde Spandau 04 e.V
SUMMARY:Modul: „Inklusives Stand-Up-Paddling – Wassersport  mit Menschen mit Behinderung“
ORGANIZER:
URL;VALUE=URI:https://www.unionhilfswerk.de/engagement/termine/modul-inklusives-stand-up-paddling-wassersport-mit-menschen-mit-behinderung/
TRANSP:OPAQUE
END:VEVENT
END:VCALENDAR
