BEGIN:VCALENDAR
VERSION:2.0
PRODID:-//Unionhilfswerk //NONSGML Events //EN
CALSCALE:GREGORIAN
X-WR-CALNAME:Unionhilfswerk
BEGIN:VEVENT
CREATED:20231130T162739
UID:4406
DTSTART;VALUE=DATE:20240709T150000
DTEND;VALUE=DATE:20240709T180000
DTSTAMP:20260423T082219
LOCATION:Unionhilfswerk\, Schwiebusser Str. 18\, 10965 Berlin
DESCRIPTION:Fortbildung\r\nMit Christel Schumacher, Dipl. Sozpäd, DCM Evaluatorin
SUMMARY:Beziehungsgestaltung mit Menschen mit Demenz
ORGANIZER:
URL;VALUE=URI:https://www.unionhilfswerk.de/engagement/termine/beziehungsgestaltung-mit-menschen-mit-demenz/
TRANSP:OPAQUE
END:VEVENT
END:VCALENDAR
