BEGIN:VCALENDAR
VERSION:2.0
PRODID:-//Unionhilfswerk //NONSGML Events //EN
CALSCALE:GREGORIAN
X-WR-CALNAME:Unionhilfswerk
BEGIN:VEVENT
CREATED:20231130T162902
UID:4407
DTSTART;VALUE=DATE:20241129T150000
DTEND;VALUE=DATE:20241129T180000
DTSTAMP:20260423T082153
LOCATION:Unionhilfswerk\, Schwiebusser Str. 18\, 10965 Berlin
DESCRIPTION:Fortbildung\r\nMit Christel Schumacher, Dipl. Sozpäd, DCM Evaluatorin
SUMMARY:Biografie, Kommunikation und Alltag
ORGANIZER:
URL;VALUE=URI:https://www.unionhilfswerk.de/engagement/termine/biografie-kommunikation-und-alltag/
TRANSP:OPAQUE
END:VEVENT
END:VCALENDAR
