BEGIN:VCALENDAR
VERSION:2.0
PRODID:-//Unionhilfswerk //NONSGML Events //EN
CALSCALE:GREGORIAN
X-WR-CALNAME:Unionhilfswerk
BEGIN:VEVENT
CREATED:20231201T124838
UID:4416
DTSTART;VALUE=DATE:20260423T082242
DTEND;VALUE=DATE:20260423T102242
DTSTAMP:20260423T082242
LOCATION:Seniorenfreizeitstätte\, Herthastraße 25 A\, 14193 Berlin
DESCRIPTION:Tischtennis\r\nmit Peter Ludwig &amp; Wolfgang Arlt
SUMMARY:Tischtennis
ORGANIZER:
URL;VALUE=URI:https://www.unionhilfswerk.de/ueber-uns/landesverband-berlin/termine/tischtennis/
TRANSP:OPAQUE
END:VEVENT
END:VCALENDAR
