BEGIN:VCALENDAR
VERSION:2.0
PRODID:-//Unionhilfswerk //NONSGML Events //EN
CALSCALE:GREGORIAN
X-WR-CALNAME:Unionhilfswerk
BEGIN:VEVENT
CREATED:20231201T125225
UID:4417
DTSTART;VALUE=DATE:20260422T084143
DTEND;VALUE=DATE:20260422T104143
DTSTAMP:20260422T084143
LOCATION:Seniorenfreizeitstätte\, Herthastraße 25 A\, 14193 Berlin
DESCRIPTION:Gedächtnistraining\r\nMarlies Jöris
SUMMARY:Gedächtnistraining
ORGANIZER:
URL;VALUE=URI:https://www.unionhilfswerk.de/ueber-uns/landesverband-berlin/termine/gedaechtnistraining/
TRANSP:OPAQUE
END:VEVENT
END:VCALENDAR
