BEGIN:VCALENDAR
VERSION:2.0
PRODID:-//Unionhilfswerk //NONSGML Events //EN
CALSCALE:GREGORIAN
X-WR-CALNAME:Unionhilfswerk
BEGIN:VEVENT
CREATED:20231201T125546
UID:4418
DTSTART;VALUE=DATE:20260422T085949
DTEND;VALUE=DATE:20260422T105949
DTSTAMP:20260422T085949
LOCATION:Seniorenfreizeitstätte\, Herthastraße 25 A\, 14193 Berlin
DESCRIPTION:Tanzgruppe Boogie
SUMMARY:Tanzgruppe Boogie
ORGANIZER:
URL;VALUE=URI:https://www.unionhilfswerk.de/ueber-uns/landesverband-berlin/termine/tanzgruppe-boogie/
TRANSP:OPAQUE
END:VEVENT
END:VCALENDAR
