BEGIN:VCALENDAR
VERSION:2.0
PRODID:-//Unionhilfswerk //NONSGML Events //EN
CALSCALE:GREGORIAN
X-WR-CALNAME:Unionhilfswerk
BEGIN:VEVENT
CREATED:20231201T130017
UID:4419
DTSTART;VALUE=DATE:20231222T183000
DTEND;VALUE=DATE:20231222T203000
DTSTAMP:20260423T083230
LOCATION:Seniorenfreizeitstätte\, Herthastraße 25 A\, 14193 Berlin
DESCRIPTION:Skat\r\nUwe Einsporn
SUMMARY:Skat
ORGANIZER:
URL;VALUE=URI:https://www.unionhilfswerk.de/ueber-uns/landesverband-berlin/termine/skat/
TRANSP:OPAQUE
END:VEVENT
END:VCALENDAR
