BEGIN:VCALENDAR
VERSION:2.0
PRODID:-//Unionhilfswerk //NONSGML Events //EN
CALSCALE:GREGORIAN
X-WR-CALNAME:Unionhilfswerk
BEGIN:VEVENT
CREATED:20231201T130559
UID:4420
DTSTART;VALUE=DATE:20260422T084216
DTEND;VALUE=DATE:20260422T104216
DTSTAMP:20260422T084216
LOCATION:DRK Haus am Lietzensee\, Herbartstraße 25\, 14057 Berlin
DESCRIPTION:Buntes Programm und Tanz mit Live-Musik\r\nDorit Scholtissek
SUMMARY:Tanznachmittag
ORGANIZER:
URL;VALUE=URI:https://www.unionhilfswerk.de/ueber-uns/landesverband-berlin/termine/tanznachmittag/
TRANSP:OPAQUE
END:VEVENT
END:VCALENDAR
