BEGIN:VCALENDAR
VERSION:2.0
PRODID:-//Unionhilfswerk //NONSGML Events //EN
CALSCALE:GREGORIAN
X-WR-CALNAME:Unionhilfswerk
BEGIN:VEVENT
CREATED:20231201T131828
UID:4423
DTSTART;VALUE=DATE:20240210T110000
DTEND;VALUE=DATE:20240210T130000
DTSTAMP:20260422T084143
LOCATION:Seniorenfreizeitstätte\, Herthastraße 25 A\, 14193 Berlin
DESCRIPTION:Lichtbildvortrag mit Mittagessen\r\nChristian Hahn
SUMMARY:Lichtbildvortrag
ORGANIZER:
URL;VALUE=URI:https://www.unionhilfswerk.de/ueber-uns/landesverband-berlin/termine/lichtbildvortrag/
TRANSP:OPAQUE
END:VEVENT
END:VCALENDAR
