BEGIN:VCALENDAR
VERSION:2.0
PRODID:-//Unionhilfswerk //NONSGML Events //EN
CALSCALE:GREGORIAN
X-WR-CALNAME:Unionhilfswerk
BEGIN:VEVENT
CREATED:20231201T132123
UID:4424
DTSTART;VALUE=DATE:20240210T140000
DTEND;VALUE=DATE:20240210T160000
DTSTAMP:20260423T082128
LOCATION:Seniorenfreizeitstätte\, Herthastraße 25 A\, 14193 Berlin
DESCRIPTION:Jahreshauptversammlung des Bezirksverbandes Charlottenburg-Wilmersdorf\r\nChristian Hahn
SUMMARY:Jahreshauptversammlung
ORGANIZER:
URL;VALUE=URI:https://www.unionhilfswerk.de/ueber-uns/landesverband-berlin/termine/jahreshauptversammlung/
TRANSP:OPAQUE
END:VEVENT
END:VCALENDAR
