BEGIN:VCALENDAR
VERSION:2.0
PRODID:-//Unionhilfswerk //NONSGML Events //EN
CALSCALE:GREGORIAN
X-WR-CALNAME:Unionhilfswerk
BEGIN:VEVENT
CREATED:20231201T132537
UID:4425
DTSTART;VALUE=DATE:20240229T000000
DTEND;VALUE=DATE:20240304T020000
DTSTAMP:20260422T084230
LOCATION:\, \,  
DESCRIPTION:Busfahrt nach Bamberg\r\nChristian Hahn
SUMMARY:Reisen -Saisonauftakt
ORGANIZER:
URL;VALUE=URI:https://www.unionhilfswerk.de/ueber-uns/landesverband-berlin/termine/reisen-saisonauftakt/
TRANSP:OPAQUE
END:VEVENT
END:VCALENDAR
