BEGIN:VCALENDAR
VERSION:2.0
PRODID:-//Unionhilfswerk //NONSGML Events //EN
CALSCALE:GREGORIAN
X-WR-CALNAME:Unionhilfswerk
BEGIN:VEVENT
CREATED:20231218T075606
UID:4696
DTSTART;VALUE=DATE:20240120T120000
DTEND;VALUE=DATE:20240120T150000
DTSTAMP:20260422T084228
LOCATION:Seniorenfreizeitstätte Böhmisches Dorf\, Kirchgasse 62/ Ecke Richardstraße\, 12043 Berlin
DESCRIPTION:Neujahrsempfang\r\nAnnelies Herrmann
SUMMARY:Neujahrsempfang
ORGANIZER:
URL;VALUE=URI:https://www.unionhilfswerk.de/ueber-uns/landesverband-berlin/termine/neujahrsempfang/
TRANSP:OPAQUE
END:VEVENT
END:VCALENDAR
