BEGIN:VCALENDAR
VERSION:2.0
PRODID:-//Unionhilfswerk //NONSGML Events //EN
CALSCALE:GREGORIAN
X-WR-CALNAME:Unionhilfswerk
BEGIN:VEVENT
CREATED:20231218T080515
UID:4699
DTSTART;VALUE=DATE:20240316T133000
DTEND;VALUE=DATE:20240316T163000
DTSTAMP:20260423T082100
LOCATION:Seniorenfreizeitstätte Böhmisches Dorf\, Kirchgasse 62/ Ecke Richardstraße\, 12043 Berlin
DESCRIPTION:Modenschau\r\nAnnelies Herrmann
SUMMARY:Modenschau
ORGANIZER:
URL;VALUE=URI:https://www.unionhilfswerk.de/ueber-uns/landesverband-berlin/termine/modenschau/
TRANSP:OPAQUE
END:VEVENT
END:VCALENDAR
