BEGIN:VCALENDAR
VERSION:2.0
PRODID:-//Unionhilfswerk //NONSGML Events //EN
CALSCALE:GREGORIAN
X-WR-CALNAME:Unionhilfswerk
BEGIN:VEVENT
CREATED:20231218T080723
UID:4700
DTSTART;VALUE=DATE:20240406T133000
DTEND;VALUE=DATE:20240406T163000
DTSTAMP:20260423T082058
LOCATION:Seniorenfreizeitstätte Böhmisches Dorf\, Kirchgasse 62/ Ecke Richardstraße\, 12043 Berlin
DESCRIPTION:Sport\r\nAnnelies Herrmann
SUMMARY:Sport & Spiel
ORGANIZER:
URL;VALUE=URI:https://www.unionhilfswerk.de/ueber-uns/landesverband-berlin/termine/sport-spiel/
TRANSP:OPAQUE
END:VEVENT
END:VCALENDAR
