BEGIN:VCALENDAR
VERSION:2.0
PRODID:-//Unionhilfswerk //NONSGML Events //EN
CALSCALE:GREGORIAN
X-WR-CALNAME:Unionhilfswerk
BEGIN:VEVENT
CREATED:20231218T080948
UID:4701
DTSTART;VALUE=DATE:20240420T133000
DTEND;VALUE=DATE:20240420T163000
DTSTAMP:20260422T084108
LOCATION:Seniorenfreizeitstätte Böhmisches Dorf\, Kirchgasse 62/ Ecke Richardstraße\, 12043 Berlin
DESCRIPTION:Suppenschlacht\r\nAnnelies Herrmann
SUMMARY:Suppenschlacht
ORGANIZER:
URL;VALUE=URI:https://www.unionhilfswerk.de/ueber-uns/landesverband-berlin/termine/suppenschlacht/
TRANSP:OPAQUE
END:VEVENT
END:VCALENDAR
