BEGIN:VCALENDAR
VERSION:2.0
PRODID:-//Unionhilfswerk //NONSGML Events //EN
CALSCALE:GREGORIAN
X-WR-CALNAME:Unionhilfswerk
BEGIN:VEVENT
CREATED:20231218T081238
UID:4702
DTSTART;VALUE=DATE:20240504T133000
DTEND;VALUE=DATE:20240504T163000
DTSTAMP:20260423T083023
LOCATION:Seniorenfreizeitstätte Böhmisches Dorf\, Kirchgasse 62/ Ecke Richardstraße\, 12043 Berlin
DESCRIPTION:Sport\r\nAnnelies Herrmann
SUMMARY:Sport & Spiel
ORGANIZER:
URL;VALUE=URI:https://www.unionhilfswerk.de/ueber-uns/landesverband-berlin/termine/sport-spiel-2/
TRANSP:OPAQUE
END:VEVENT
END:VCALENDAR
