BEGIN:VCALENDAR
VERSION:2.0
PRODID:-//Unionhilfswerk //NONSGML Events //EN
CALSCALE:GREGORIAN
X-WR-CALNAME:Unionhilfswerk
BEGIN:VEVENT
CREATED:20231218T082307
UID:4706
DTSTART;VALUE=DATE:20240706T133000
DTEND;VALUE=DATE:20240706T163000
DTSTAMP:20260422T084014
LOCATION:Seniorenfreizeitstätte Böhmisches Dorf\, Kirchgasse 62/ Ecke Richardstraße\, 12043 Berlin
DESCRIPTION:Grillfest\r\nAnnelies Herrmann
SUMMARY:Grillfest
ORGANIZER:
URL;VALUE=URI:https://www.unionhilfswerk.de/ueber-uns/landesverband-berlin/termine/grillfest/
TRANSP:OPAQUE
END:VEVENT
END:VCALENDAR
