BEGIN:VCALENDAR
VERSION:2.0
PRODID:-//Unionhilfswerk //NONSGML Events //EN
CALSCALE:GREGORIAN
X-WR-CALNAME:Unionhilfswerk
BEGIN:VEVENT
CREATED:20240123T095340
UID:4755
DTSTART;VALUE=DATE:20240429T160000
DTEND;VALUE=DATE:20240429T180000
DTSTAMP:20260422T084114
LOCATION:Selbsthilfezentrum Reinickendorf\, Eichhorster Weg 32\, 13435  Berlin
DESCRIPTION:Info-Veranstaltung\r\nMit André Scholz, Reisemaulwurf e.V.
SUMMARY:Jede*r kann reisen! – Urlaub für Pflegebedürftige & pflegende Angehörige
ORGANIZER:Unionhilfswerk - Kontaktstelle PflegeEngagement Reinickendorf
URL;VALUE=URI:https://www.unionhilfswerk.de/angebote/beratung-unterstuetzung/kontaktstelle-pflegeengagement-reinickendorf/termine/jeder-kann-reisen-urlaub-fuer-pflegebeduerftige-pflegende-angehoerige/
TRANSP:OPAQUE
END:VEVENT
END:VCALENDAR
