BEGIN:VCALENDAR
VERSION:2.0
PRODID:-//Unionhilfswerk //NONSGML Events //EN
CALSCALE:GREGORIAN
X-WR-CALNAME:Unionhilfswerk
BEGIN:VEVENT
CREATED:20240123T105334
UID:4758
DTSTART;VALUE=DATE:20240228T150000
DTEND;VALUE=DATE:20240228T170000
DTSTAMP:20260423T082127
LOCATION:Haus Friedenshöhe\, Sigismundkorso 68\, 13465 Berlin
DESCRIPTION:Jahreshauptversammlung der OTG Frohnau\r\nDr. Udo Maack
SUMMARY:Jahreshauptversammlung der OTG Frohnau im BV Reinickendorf
ORGANIZER:
URL;VALUE=URI:https://www.unionhilfswerk.de/ueber-uns/landesverband-berlin/termine/jahreshauptversammlung-der-otg-frohnau-im-bv-reinickendorf/
TRANSP:OPAQUE
END:VEVENT
END:VCALENDAR
