BEGIN:VCALENDAR
VERSION:2.0
PRODID:-//Unionhilfswerk //NONSGML Events //EN
CALSCALE:GREGORIAN
X-WR-CALNAME:Unionhilfswerk
BEGIN:VEVENT
CREATED:20240123T120901
UID:4760
DTSTART;VALUE=DATE:20240420T100000
DTEND;VALUE=DATE:20240420T120000
DTSTAMP:20260422T084106
LOCATION:Seniorenwohnhaus\, Kulbeweg 24a\, 13587 Berlin
DESCRIPTION:
SUMMARY:Frühstück
ORGANIZER:
URL;VALUE=URI:https://www.unionhilfswerk.de/ueber-uns/landesverband-berlin/termine/fruehstueck/
TRANSP:OPAQUE
END:VEVENT
END:VCALENDAR
