BEGIN:VCALENDAR
VERSION:2.0
PRODID:-//Unionhilfswerk //NONSGML Events //EN
CALSCALE:GREGORIAN
X-WR-CALNAME:Unionhilfswerk
BEGIN:VEVENT
CREATED:20240123T134726
UID:4763
DTSTART;VALUE=DATE:20260422T100000
DTEND;VALUE=DATE:20260422T120000
DTSTAMP:20260422T123005
LOCATION:Seniorenwohnhaus\, Kulbeweg 24a\, 13587 Berlin
DESCRIPTION:
SUMMARY:Frühstück
ORGANIZER:
URL;VALUE=URI:https://www.unionhilfswerk.de/ueber-uns/landesverband-berlin/termine/fruehstueck-2/
TRANSP:OPAQUE
END:VEVENT
END:VCALENDAR
