BEGIN:VCALENDAR
VERSION:2.0
PRODID:-//Unionhilfswerk //NONSGML Events //EN
CALSCALE:GREGORIAN
X-WR-CALNAME:Unionhilfswerk
BEGIN:VEVENT
CREATED:20240207T131639
UID:4857
DTSTART;VALUE=DATE:20240221T160000
DTEND;VALUE=DATE:20240221T180000
DTSTAMP:20260422T084106
LOCATION:Unionhilfswerk Besuchsdienst "Die GroßstadtGefährten"\, Richard-Sorge-Str. 21 A (EG)\, 10249 Berlin
DESCRIPTION:Fortbildung\r\nmit Marlies Carbonaro, Gerontotherapeutin, Seminarleiterin für Stressbewältigung, Sängerin
SUMMARY:Lügen haben kurze Beine – auch bei einer Demenz?
ORGANIZER:
URL;VALUE=URI:https://www.unionhilfswerk.de/engagement/termine/luegen-haben-kurze-beine-auch-bei-einer-demenz/
TRANSP:OPAQUE
END:VEVENT
END:VCALENDAR
