BEGIN:VCALENDAR
VERSION:2.0
PRODID:-//Unionhilfswerk //NONSGML Events //EN
CALSCALE:GREGORIAN
X-WR-CALNAME:Unionhilfswerk
BEGIN:VEVENT
CREATED:20240212T143509
UID:4865
DTSTART;VALUE=DATE:20240329T074500
DTEND;VALUE=DATE:20240401T094500
DTSTAMP:20260422T084016
LOCATION:\, \,  
DESCRIPTION:
SUMMARY:Ostern Ahoi – Maritimes an der Schlei
ORGANIZER:
URL;VALUE=URI:https://www.unionhilfswerk.de/ueber-uns/landesverband-berlin/termine/ostern-ahoi-maritimes-an-der-schlei/
TRANSP:OPAQUE
END:VEVENT
END:VCALENDAR
