BEGIN:VCALENDAR
VERSION:2.0
PRODID:-//Unionhilfswerk //NONSGML Events //EN
CALSCALE:GREGORIAN
X-WR-CALNAME:Unionhilfswerk
BEGIN:VEVENT
CREATED:20240212T143947
UID:4866
DTSTART;VALUE=DATE:20240516T000000
DTEND;VALUE=DATE:20240530T020000
DTSTAMP:20260422T084108
LOCATION:\, \,  
DESCRIPTION:
SUMMARY:AMRUM – 2024 nun doch!
ORGANIZER:
URL;VALUE=URI:https://www.unionhilfswerk.de/ueber-uns/landesverband-berlin/termine/amrum-2024-nun-doch/
TRANSP:OPAQUE
END:VEVENT
END:VCALENDAR
