BEGIN:VCALENDAR
VERSION:2.0
PRODID:-//Unionhilfswerk //NONSGML Events //EN
CALSCALE:GREGORIAN
X-WR-CALNAME:Unionhilfswerk
BEGIN:VEVENT
CREATED:20240212T144319
UID:4868
DTSTART;VALUE=DATE:20240725T000000
DTEND;VALUE=DATE:20240808T020000
DTSTAMP:20260422T084016
LOCATION:\, \,  
DESCRIPTION:
SUMMARY:Amrum 2024
ORGANIZER:
URL;VALUE=URI:https://www.unionhilfswerk.de/ueber-uns/landesverband-berlin/termine/amrum-2024-2/
TRANSP:OPAQUE
END:VEVENT
END:VCALENDAR
