BEGIN:VCALENDAR
VERSION:2.0
PRODID:-//Unionhilfswerk //NONSGML Events //EN
CALSCALE:GREGORIAN
X-WR-CALNAME:Unionhilfswerk
BEGIN:VEVENT
CREATED:20240212T150317
UID:4876
DTSTART;VALUE=DATE:20240609T180000
DTEND;VALUE=DATE:20240609T200000
DTSTAMP:20260423T081955
LOCATION:\, \,  
DESCRIPTION:
SUMMARY:Schlossparktheater – Oskar und die Dame in Rosa
ORGANIZER:
URL;VALUE=URI:https://www.unionhilfswerk.de/ueber-uns/landesverband-berlin/termine/schlossparktheater-oskar-und-die-dame-in-rosa/
TRANSP:OPAQUE
END:VEVENT
END:VCALENDAR
