BEGIN:VCALENDAR
VERSION:2.0
PRODID:-//Unionhilfswerk //NONSGML Events //EN
CALSCALE:GREGORIAN
X-WR-CALNAME:Unionhilfswerk
BEGIN:VEVENT
CREATED:20240212T150443
UID:4877
DTSTART;VALUE=DATE:20241023T193000
DTEND;VALUE=DATE:20241023T213000
DTSTAMP:20260423T082043
LOCATION:\, \,  
DESCRIPTION:
SUMMARY:Kudamm Theater – Das perfekte Geheimnis
ORGANIZER:
URL;VALUE=URI:https://www.unionhilfswerk.de/ueber-uns/landesverband-berlin/termine/kudamm-theater-das-perfekte-geheimnis/
TRANSP:OPAQUE
END:VEVENT
END:VCALENDAR
