BEGIN:VCALENDAR
VERSION:2.0
PRODID:-//Unionhilfswerk //NONSGML Events //EN
CALSCALE:GREGORIAN
X-WR-CALNAME:Unionhilfswerk
BEGIN:VEVENT
CREATED:20240213T064744
UID:4879
DTSTART;VALUE=DATE:20240224T140000
DTEND;VALUE=DATE:20240224T160000
DTSTAMP:20260422T084015
LOCATION:DRK Haus am Lietzensee\, Herbartstraße 25\, 14057 Berlin
DESCRIPTION:
SUMMARY:Kaffeenachmittag
ORGANIZER:
URL;VALUE=URI:https://www.unionhilfswerk.de/ueber-uns/landesverband-berlin/termine/kaffeenachmittag-2/
TRANSP:OPAQUE
END:VEVENT
END:VCALENDAR
