BEGIN:VCALENDAR
VERSION:2.0
PRODID:-//Unionhilfswerk //NONSGML Events //EN
CALSCALE:GREGORIAN
X-WR-CALNAME:Unionhilfswerk
BEGIN:VEVENT
CREATED:20240213T065836
UID:4884
DTSTART;VALUE=DATE:20240525T140000
DTEND;VALUE=DATE:20240525T160000
DTSTAMP:20260423T082042
LOCATION:DRK Haus am Lietzensee\, Herbartstraße 25\, 14057 Berlin
DESCRIPTION:
SUMMARY:Kaffeenachmittag
ORGANIZER:
URL;VALUE=URI:https://www.unionhilfswerk.de/ueber-uns/landesverband-berlin/termine/kaffeenachmittag-7/
TRANSP:OPAQUE
END:VEVENT
END:VCALENDAR
