BEGIN:VCALENDAR
VERSION:2.0
PRODID:-//Unionhilfswerk //NONSGML Events //EN
CALSCALE:GREGORIAN
X-WR-CALNAME:Unionhilfswerk
BEGIN:VEVENT
CREATED:20240213T070155
UID:4886
DTSTART;VALUE=DATE:20240511T150000
DTEND;VALUE=DATE:20240511T170000
DTSTAMP:20260422T084014
LOCATION:Seniorenbegegnungsstätte\, Herthastraße 25 A\, 14193 Berlin
DESCRIPTION:
SUMMARY:Kaffeenachmittag
ORGANIZER:
URL;VALUE=URI:https://www.unionhilfswerk.de/ueber-uns/landesverband-berlin/termine/kaffeenachmittag-9/
TRANSP:OPAQUE
END:VEVENT
END:VCALENDAR
