BEGIN:VCALENDAR
VERSION:2.0
PRODID:-//Unionhilfswerk //NONSGML Events //EN
CALSCALE:GREGORIAN
X-WR-CALNAME:Unionhilfswerk
BEGIN:VEVENT
CREATED:20240213T071153
UID:4889
DTSTART;VALUE=DATE:20240706T130000
DTEND;VALUE=DATE:20240706T150000
DTSTAMP:20260423T082047
LOCATION:Allianz Casino Mariendorf\, Wildspitzweg 12 - 46\, 12107 Berlin
DESCRIPTION:
SUMMARY:Sommerfest
ORGANIZER:
URL;VALUE=URI:https://www.unionhilfswerk.de/ueber-uns/landesverband-berlin/termine/sommerfest/
TRANSP:OPAQUE
END:VEVENT
END:VCALENDAR
