BEGIN:VCALENDAR
VERSION:2.0
PRODID:-//Unionhilfswerk //NONSGML Events //EN
CALSCALE:GREGORIAN
X-WR-CALNAME:Unionhilfswerk
BEGIN:VEVENT
CREATED:20240213T072859
UID:4895
DTSTART;VALUE=DATE:20240527T000000
DTEND;VALUE=DATE:20240527T020000
DTSTAMP:20260423T082046
LOCATION:\, \,  
DESCRIPTION:
SUMMARY:Schifffahrt – Brandenburg
ORGANIZER:
URL;VALUE=URI:https://www.unionhilfswerk.de/ueber-uns/landesverband-berlin/termine/schifffahrt-brandenburg/
TRANSP:OPAQUE
END:VEVENT
END:VCALENDAR
